BEGIN:VCALENDAR
VERSION:2.0
PRODID:-//Norwood Baptist Church - ECPv6.15.20//NONSGML v1.0//EN
CALSCALE:GREGORIAN
METHOD:PUBLISH
X-WR-CALNAME:Norwood Baptist Church
X-ORIGINAL-URL:https://norwoodbaptistchurch.com
X-WR-CALDESC:Events for Norwood Baptist Church
REFRESH-INTERVAL;VALUE=DURATION:PT1H
X-Robots-Tag:noindex
X-PUBLISHED-TTL:PT1H
BEGIN:VTIMEZONE
TZID:America/New_York
BEGIN:DAYLIGHT
TZOFFSETFROM:-0500
TZOFFSETTO:-0400
TZNAME:EDT
DTSTART:20210314T070000
END:DAYLIGHT
BEGIN:STANDARD
TZOFFSETFROM:-0400
TZOFFSETTO:-0500
TZNAME:EST
DTSTART:20211107T060000
END:STANDARD
BEGIN:DAYLIGHT
TZOFFSETFROM:-0500
TZOFFSETTO:-0400
TZNAME:EDT
DTSTART:20220313T070000
END:DAYLIGHT
BEGIN:STANDARD
TZOFFSETFROM:-0400
TZOFFSETTO:-0500
TZNAME:EST
DTSTART:20221106T060000
END:STANDARD
BEGIN:DAYLIGHT
TZOFFSETFROM:-0500
TZOFFSETTO:-0400
TZNAME:EDT
DTSTART:20230312T070000
END:DAYLIGHT
BEGIN:STANDARD
TZOFFSETFROM:-0400
TZOFFSETTO:-0500
TZNAME:EST
DTSTART:20231105T060000
END:STANDARD
END:VTIMEZONE
BEGIN:VEVENT
DTSTART;TZID=America/New_York:20221218T183000
DTEND;TZID=America/New_York:20221219T070000
DTSTAMP:20260424T175533
CREATED:20220919T002638Z
LAST-MODIFIED:20220919T002638Z
UID:2295-1671388200-1671433200@norwoodbaptistchurch.com
SUMMARY:Norwood's Youth - A Very Merry Christmas Lock-In
DESCRIPTION:Our youth will be having A Very Merry Christmas Locking on December 18-19 from 6:30pm – 7am.  There will be games\, snacks\, movie\, devotional\, and breakfast.
URL:https://norwoodbaptistchurch.com/event/norwoods-youth-a-very-merry-christmas-lock-in/
LOCATION:Norwood Baptist Church\, 1045 Random Way\, Forest\, VA\, 24551\, United States
CATEGORIES:Norwood's Youth
ATTACH;FMTTYPE=image/jpeg:https://norwoodbaptistchurch.com/wp-content/uploads/2022/09/youth-lockin-e1663547157580.jpg
END:VEVENT
END:VCALENDAR